BEGIN:VCALENDAR
VERSION:2.0
PRODID:-//Cub Pack 110 - ECPv5.9.0//NONSGML v1.0//EN
CALSCALE:GREGORIAN
METHOD:PUBLISH
X-WR-CALNAME:Cub Pack 110
X-ORIGINAL-URL:https://dev.cubpack110.com
X-WR-CALDESC:Events for Cub Pack 110
BEGIN:VTIMEZONE
TZID:America/New_York
BEGIN:DAYLIGHT
TZOFFSETFROM:-0500
TZOFFSETTO:-0400
TZNAME:EDT
DTSTART:20190310T070000
END:DAYLIGHT
BEGIN:STANDARD
TZOFFSETFROM:-0400
TZOFFSETTO:-0500
TZNAME:EST
DTSTART:20191103T060000
END:STANDARD
END:VTIMEZONE
BEGIN:VEVENT
DTSTART;TZID=America/New_York:20190608T150000
DTEND;TZID=America/New_York:20190609T120000
DTSTAMP:20260419T154917
CREATED:20180515T133237Z
LAST-MODIFIED:20190605T190324Z
UID:6158-1560006000-1560081600@dev.cubpack110.com
SUMMARY:2019 Family Camping Finale
DESCRIPTION:All Pack 110 families are invited to attend our final camping event before the summer. Our June 8th location is the beautiful Hibernia County Park\, full of great wooded trails leading to open space for frisbees and catch\, or a visit down by the lake. This is a great opportunity to explore nature and have some fun outdoors. The boys have a history of good luck fishing on this trip so be sure to bring tour fishing pole (Children do not require fishing licenses. Adults without licenses may only assist with casting). \nPlease contact Brian Denney or RSVP below if you plan on attending.\nEmail: brian.t.denney@nullgmail.com\n \n\n\nFood Sign-Up\n\n\nDirections\n\n\nCamp Out Packing List
URL:https://dev.cubpack110.com/event/2019-family-camping-finale/
LOCATION:Hibernia Park\, 1 Park Rd\, Coatesville\, PA\, 19320\, United States
CATEGORIES:Pack Events
ORGANIZER;CN="Brian%20Denney":MAILTO:brian.t.denney@gmail.com
END:VEVENT
END:VCALENDAR