BEGIN:VCALENDAR
VERSION:2.0
PRODID:-//Cub Pack 110 - ECPv5.9.0//NONSGML v1.0//EN
CALSCALE:GREGORIAN
METHOD:PUBLISH
X-WR-CALNAME:Cub Pack 110
X-ORIGINAL-URL:https://dev.cubpack110.com
X-WR-CALDESC:Events for Cub Pack 110
BEGIN:VTIMEZONE
TZID:America/New_York
BEGIN:DAYLIGHT
TZOFFSETFROM:-0500
TZOFFSETTO:-0400
TZNAME:EDT
DTSTART:20190310T070000
END:DAYLIGHT
BEGIN:STANDARD
TZOFFSETFROM:-0400
TZOFFSETTO:-0500
TZNAME:EST
DTSTART:20191103T060000
END:STANDARD
END:VTIMEZONE
BEGIN:VEVENT
DTSTART;TZID=America/New_York:20190413T080000
DTEND;TZID=America/New_York:20190413T113000
DTSTAMP:20260423T084040
CREATED:20190329T130032Z
LAST-MODIFIED:20190405T191144Z
UID:6020-1555142400-1555155000@dev.cubpack110.com
SUMMARY:Chester County Council Day of Service
DESCRIPTION:Chester County Council is 100 years old!  Do we celebrate with a cake and candles?? NO!  We celebrate by ‘helping other people at all times’ and providing service to communities all across Chester County.    \nWe have around 30 projects that span our county.  Please only sign up for a slot if you are sure that you can participate.  We want our community partners to have the best experience possible.  \nAll projects will be lead by an OA team lead.  Our exact location and project will be determined closer to the service date. \nPack 110’s Project\nAt the moment\, it looks like Pack 110 will be helping with an Easter Egg Hunt Help at Boot Road Park.  Should be fun!
URL:https://dev.cubpack110.com/event/chester-county-council-day-of-service/
LOCATION:Boot Road Park\, 110 W. Boot Road Park\, West Chester\, PA\, 19380\, United States
CATEGORIES:Community Service
ATTACH;FMTTYPE=image/jpeg:https://dev.cubpack110.com/wp-content/uploads/2019/03/postImage_2019-day-of-service.jpg
ORGANIZER;CN="Josh%20Comolli":MAILTO:cubmaster@cubpack110.com
END:VEVENT
END:VCALENDAR