BEGIN:VCALENDAR
VERSION:2.0
PRODID:-//Cub Pack 110 - ECPv5.9.0//NONSGML v1.0//EN
CALSCALE:GREGORIAN
METHOD:PUBLISH
X-WR-CALNAME:Cub Pack 110
X-ORIGINAL-URL:https://dev.cubpack110.com
X-WR-CALDESC:Events for Cub Pack 110
BEGIN:VTIMEZONE
TZID:America/New_York
BEGIN:DAYLIGHT
TZOFFSETFROM:-0500
TZOFFSETTO:-0400
TZNAME:EDT
DTSTART:20220313T070000
END:DAYLIGHT
BEGIN:STANDARD
TZOFFSETFROM:-0400
TZOFFSETTO:-0500
TZNAME:EST
DTSTART:20221106T060000
END:STANDARD
END:VTIMEZONE
BEGIN:VEVENT
DTSTART;TZID=America/New_York:20221113T190000
DTEND;TZID=America/New_York:20221113T210000
DTSTAMP:20260423T012023
CREATED:20201027T234503Z
LAST-MODIFIED:20220921T001240Z
UID:10670-1668366000-1668373200@dev.cubpack110.com
SUMMARY:Fall Family Hayride and Campfire
DESCRIPTION:Join us for our traditional fall hayride and campfire at Highland Orchards on November 5th! The wagon will depart promptly at 7:00 pm. Around the campfire\, we will enjoy s’mores and a few skits and songs performed by our scouts. Please arrive early to buy Highland Orchards’ famous apple cider and apple cider donuts. \n  \nRegistration:\nRegister early! Space is limited to 60 people.  This is one of our most popular events and we expect it to sell out quickly. Registration is FIRST COME\, FIRST SERVED. We look forward to seeing you there! \n  \nFood:\nThe pack will provide individual packets of s’mores ingredients (graham crackers\, marshmallows\, and chocolate) to each scout. Additionally\, we will have Highland Orchards’ famous apple cider and apple cider donuts to enjoy around the campfire too! If you would rather bring your own ingredients\, please do so. \n 
URL:https://dev.cubpack110.com/event/fall-family-hayride-and-campfire2022/
LOCATION:Highland Orchards\, 1000 Marshallton Thorndale Rd\, West Chester\, PA\, 19380\, United States
CATEGORIES:Pack Events
ATTACH;FMTTYPE=image/jpeg:https://dev.cubpack110.com/wp-content/uploads/2017/09/postImage_hayride.jpg
ORGANIZER;CN="Cubmaster":MAILTO:cubmaster@cubpack110.com
END:VEVENT
END:VCALENDAR