BEGIN:VCALENDAR
VERSION:2.0
PRODID:-//Cub Pack 110 - ECPv5.9.0//NONSGML v1.0//EN
CALSCALE:GREGORIAN
METHOD:PUBLISH
X-WR-CALNAME:Cub Pack 110
X-ORIGINAL-URL:https://dev.cubpack110.com
X-WR-CALDESC:Events for Cub Pack 110
BEGIN:VTIMEZONE
TZID:America/New_York
BEGIN:DAYLIGHT
TZOFFSETFROM:-0500
TZOFFSETTO:-0400
TZNAME:EDT
DTSTART:20260308T070000
END:DAYLIGHT
BEGIN:STANDARD
TZOFFSETFROM:-0400
TZOFFSETTO:-0500
TZNAME:EST
DTSTART:20261101T060000
END:STANDARD
END:VTIMEZONE
BEGIN:VEVENT
DTSTART;TZID=America/New_York:20260131T123000
DTEND;TZID=America/New_York:20260131T160000
DTSTAMP:20260422T141443
CREATED:20251211T151328Z
LAST-MODIFIED:20251211T152807Z
UID:15895-1769862600-1769875200@dev.cubpack110.com
SUMMARY:Flyers Game vs. LA Kings
DESCRIPTION:Pack 110 goes to the Flyers game!  We have pre-purchased 30 tickets seated together to watch some fast and furious skating (and scoring) from our home team.  The Flyers will host the LA Kings\, and all participating scouts will receive souvenir patches.  Our pack will present our nation’s flag during the Star Spangled Banner and be featured on the Jumbotron screen!  After purchase through our website\, tickets will be transferred to you.\nThe cost of our tickets has been subsidized by this fall’s popcorn sales.  Total cost is $50 per participant.  We hope to see you there!
URL:https://dev.cubpack110.com/event/flyers-game-vs-la-kings/
LOCATION:Xfinity Mobile Arena\, 3601 South Broad Street\, Philadelphia\, PA\, 19382\, United States
ATTACH;FMTTYPE=image/png:https://dev.cubpack110.com/wp-content/uploads/2025/12/ChatGPT-Image-Dec-11-2025-10_22_56-AM.png
END:VEVENT
END:VCALENDAR