BEGIN:VCALENDAR
VERSION:2.0
PRODID:-//Cub Pack 110 - ECPv5.9.0//NONSGML v1.0//EN
CALSCALE:GREGORIAN
METHOD:PUBLISH
X-WR-CALNAME:Cub Pack 110
X-ORIGINAL-URL:https://dev.cubpack110.com
X-WR-CALDESC:Events for Cub Pack 110
BEGIN:VTIMEZONE
TZID:America/New_York
BEGIN:DAYLIGHT
TZOFFSETFROM:-0500
TZOFFSETTO:-0400
TZNAME:EDT
DTSTART:20250309T070000
END:DAYLIGHT
BEGIN:STANDARD
TZOFFSETFROM:-0400
TZOFFSETTO:-0500
TZNAME:EST
DTSTART:20251102T060000
END:STANDARD
END:VTIMEZONE
BEGIN:VEVENT
DTSTART;TZID=America/New_York:20250510T100000
DTEND;TZID=America/New_York:20250510T120000
DTSTAMP:20260421T065607
CREATED:20240905T155632Z
LAST-MODIFIED:20250509T132714Z
UID:14724-1746871200-1746878400@dev.cubpack110.com
SUMMARY:May Pack Meeting - Rocket Launch (Rain Date tbd)
DESCRIPTION:Our cub scouts will build rockets that we will launch high into the air. All of the rockets have streamers to ensure their safe return. Please join us and your children can help us retrieve the rockets once they return to earth. Bring your assembled rocket kit and the pack will provide the rocket motor and all launch equipment. \nPlease join us at Pocopson Park – 477 Locust Grove Rd\, West Chester\, PA 19382. Come early! \nNot a Cub Scout yet?\nThis is a great opportunity to come see what it’s all about. Bring your own rocket to launch or just come out to watch the show. Please use the RSVP on the website to confirm you’re attending! ANY INTERESTED BOYS OR GIRLS GRADES K-4 ARE INVITED! \nWant to invite a friend?\nThis is a great opportunity for any family interested in learning more about Cub Scouts to come out and see what Pack 110 is all about. Please feel free to bring them along!
URL:https://dev.cubpack110.com/event/may-pack-meeting-rocket-launch-rain-date-tbd/
LOCATION:Pocopson Park\, 477 Locust Grove Rd\, West Chester\, PA\, 19382
ATTACH;FMTTYPE=image/jpeg:https://dev.cubpack110.com/wp-content/uploads/2017/05/estes-viking-rocket.jpg
END:VEVENT
END:VCALENDAR