BEGIN:VCALENDAR
VERSION:2.0
PRODID:-//Cub Pack 110 - ECPv5.9.0//NONSGML v1.0//EN
CALSCALE:GREGORIAN
METHOD:PUBLISH
X-WR-CALNAME:Cub Pack 110
X-ORIGINAL-URL:https://dev.cubpack110.com
X-WR-CALDESC:Events for Cub Pack 110
BEGIN:VTIMEZONE
TZID:America/New_York
BEGIN:DAYLIGHT
TZOFFSETFROM:-0500
TZOFFSETTO:-0400
TZNAME:EDT
DTSTART:20180311T070000
END:DAYLIGHT
BEGIN:STANDARD
TZOFFSETFROM:-0400
TZOFFSETTO:-0500
TZNAME:EST
DTSTART:20181104T060000
END:STANDARD
END:VTIMEZONE
BEGIN:VEVENT
DTSTART;TZID=America/New_York:20180825T190000
DTEND;TZID=America/New_York:20180826T090000
DTSTAMP:20260421T065500
CREATED:20180212T175653Z
LAST-MODIFIED:20180801T002631Z
UID:4270-1535223600-1535274000@dev.cubpack110.com
SUMMARY:Philadelphia Union Campout
DESCRIPTION:Philadelphia Union vs. New England Revolution & Sleepover\nPack 110 is excited to participate in the 2018 U Campout at the Philadelphia Union Stadium this year. We will enjoy great game followed by a campout right on the field *. \n* Scouts must provide their own self-standing tents – No tent stakes may be used on the field. \nCost\n$40/person for the Game & Sleepover\n \nRSVP\nSpaces are limited and will fill up fast. Please buy your tickets below ASAP.
URL:https://dev.cubpack110.com/event/u-campout/
LOCATION:Talen Energy Stadium\, 1 Stadium Drive\, Chester\, PA\, 19013\, United States
CATEGORIES:Pack Events
ATTACH;FMTTYPE=image/jpeg:https://dev.cubpack110.com/wp-content/uploads/2018/02/postImage_philly-union.jpg
ORGANIZER;CN="Josh%20Comolli":MAILTO:cubmaster@cubpack110.com
END:VEVENT
END:VCALENDAR