BEGIN:VCALENDAR
VERSION:2.0
PRODID:-//Cub Pack 110 - ECPv5.9.0//NONSGML v1.0//EN
CALSCALE:GREGORIAN
METHOD:PUBLISH
X-WR-CALNAME:Cub Pack 110
X-ORIGINAL-URL:https://dev.cubpack110.com
X-WR-CALDESC:Events for Cub Pack 110
BEGIN:VTIMEZONE
TZID:America/New_York
BEGIN:DAYLIGHT
TZOFFSETFROM:-0500
TZOFFSETTO:-0400
TZNAME:EDT
DTSTART:20230312T070000
END:DAYLIGHT
BEGIN:STANDARD
TZOFFSETFROM:-0400
TZOFFSETTO:-0500
TZNAME:EST
DTSTART:20231105T060000
END:STANDARD
END:VTIMEZONE
BEGIN:VEVENT
DTSTART;TZID=America/New_York:20230804T174500
DTEND;TZID=America/New_York:20230805T174500
DTSTAMP:20260421T065853
CREATED:20210713T001054Z
LAST-MODIFIED:20230710T220651Z
UID:12125-1691171100-1691257500@dev.cubpack110.com
SUMMARY:Wilmington Blue Rocks Scout Night - August 4th
DESCRIPTION:The Wilmington Blue Rocks are hosting a scout night on August 4th\, where the Blue Rocks face off against Hudson Valley.  Gates open and 5:45pm. \nSLEEPOVER PACKAGE OPTION\nFor $20 per person\, each will receive:\n– Upper Box Game Ticket\n– Pre-Game Scout Parade\n– Post-Game Sleepover on the Field\n– Light breakfast\n– Scout Patch\n– Voucher for Hot Dog/Chips/Soda during the game \nGAME ONLY OPTION \nFor $15 per person\, each will receive:\n– Upper Box Game Ticket\n– Voucher for Hot Dog/Chips/Soda during the game\n– Pre-Game Scout Parade \nScouts should come in class A or B uniforms and can cheer when our unit is announced. \nAll family members are welcome!
URL:https://dev.cubpack110.com/event/wilmington-blue-rocks-scout-night-2/
LOCATION:Frawley Stadium\, 801 Shipyard Dr\, Wilmington\, DE\, 19801\, United States
CATEGORIES:Pack Events
ATTACH;FMTTYPE=image/jpeg:https://dev.cubpack110.com/wp-content/uploads/2017/05/postImage-Blue-Rocks-Scout-Night.jpg
END:VEVENT
END:VCALENDAR